BEGIN:VCALENDAR
VERSION:2.0
PRODID:-//carwashmesse-online - ECPv6.1.3//NONSGML v1.0//EN
CALSCALE:GREGORIAN
METHOD:PUBLISH
X-ORIGINAL-URL:https://carwash-messe.com
X-WR-CALDESC:Veranstaltungen für carwashmesse-online
REFRESH-INTERVAL;VALUE=DURATION:PT1H
X-Robots-Tag:noindex
X-PUBLISHED-TTL:PT1H
BEGIN:VTIMEZONE
TZID:UTC
BEGIN:STANDARD
TZOFFSETFROM:+0000
TZOFFSETTO:+0000
TZNAME:UTC
DTSTART:20220101T000000
END:STANDARD
END:VTIMEZONE
BEGIN:VEVENT
DTSTART;TZID=UTC:20220518T150000
DTEND;TZID=UTC:20220518T160000
DTSTAMP:20260425T101623
CREATED:20220509T235201Z
LAST-MODIFIED:20220509T235201Z
UID:208-1652886000-1652889600@carwash-messe.com
SUMMARY:Autowaschforum auf der UNITI expo
DESCRIPTION:
URL:https://carwash-messe.com/event/autowaschforum-auf-der-uniti-expo/
END:VEVENT
END:VCALENDAR