BEGIN:VCALENDAR
VERSION:2.0
PRODID:-//carwashmesse-online - ECPv6.1.3//NONSGML v1.0//EN
CALSCALE:GREGORIAN
METHOD:PUBLISH
X-ORIGINAL-URL:https://carwash-messe.com
X-WR-CALDESC:Veranstaltungen für carwashmesse-online
REFRESH-INTERVAL;VALUE=DURATION:PT1H
X-Robots-Tag:noindex
X-PUBLISHED-TTL:PT1H
BEGIN:VTIMEZONE
TZID:UTC
BEGIN:STANDARD
TZOFFSETFROM:+0000
TZOFFSETTO:+0000
TZNAME:UTC
DTSTART:20210101T000000
END:STANDARD
END:VTIMEZONE
BEGIN:VEVENT
DTSTART;TZID=UTC:20210926T080000
DTEND;TZID=UTC:20210926T170000
DTSTAMP:20260426T001300
CREATED:20210926T095951Z
LAST-MODIFIED:20210926T095951Z
UID:193-1632643200-1632675600@carwash-messe.com
SUMMARY:Der Verantwortungsvolle Umgang mit Wasser - Faritec Water Recycling Systems
DESCRIPTION:
URL:https://carwash-messe.com/event/der-verantwortungsvolle-umgang-mit-wasser-faritec-water-recycling-systems/
CATEGORIES:carwash Messe Live
ATTACH;FMTTYPE=image/jpeg:https://carwash-messe.com/wp-content/uploads/2021/09/Teaser-Online.jpg
END:VEVENT
END:VCALENDAR